BEGIN:VCALENDAR
VERSION:2.0
PRODID:-//hacksw/handcal//NONSGML v1.0//EN
BEGIN:VEVENT
SUMMARY:[-18 M2] / HBC Suresnes
UID:6d6f2ea8-ab75-410b-9f98-8f28b34fade0
DTSTART:20260510T091500Z
DTEND:20260510T104500Z
LOCATION:Gymnase du Parc avenue du parc 92260 Fontenay aux Roses
CATEGORIES:Sportif
STATUS:
URL;VALUE=URI:https://www.asf-handball.org/evenements/2026/05/10/18-m2-hbc-suresnes-2442879
END:VEVENT
END:VCALENDAR
