BEGIN:VCALENDAR
VERSION:2.0
PRODID:-//hacksw/handcal//NONSGML v1.0//EN
BEGIN:VEVENT
SUMMARY:[-13 F1] / Bois Colombes Sports 2
UID:3886937d-54d2-45ee-8e79-0e6d6de33602
DTSTART:20260510T073000Z
DTEND:20260510T081500Z
LOCATION:Gymnase du Parc avenue du parc 92260 Fontenay aux Roses
CATEGORIES:Sportif
STATUS:
URL;VALUE=URI:https://www.asf-handball.org/evenements/2026/05/10/13-f1-bois-colombes-sports-2-2443045
END:VEVENT
END:VCALENDAR
