BEGIN:VCALENDAR
VERSION:2.0
PRODID:-//hacksw/handcal//NONSGML v1.0//EN
BEGIN:VEVENT
SUMMARY:[-15 M3] / ASV Chatenay-Malabry 2
UID:00c97dcb-c32d-41c1-be4a-36660148a2af
DTSTART:20260509T144500Z
DTEND:20260509T160000Z
LOCATION:Gymnase du Parc avenue du parc 92260 Fontenay aux Roses
CATEGORIES:Sportif
STATUS:
URL;VALUE=URI:https://www.asf-handball.org/evenements/2026/05/09/15-m3-asv-chatenay-malabry-2-2442804
END:VEVENT
END:VCALENDAR
