BEGIN:VCALENDAR
VERSION:2.0
PRODID:-//hacksw/handcal//NONSGML v1.0//EN
BEGIN:VEVENT
SUMMARY:[-11 1] / ACBB 1
UID:7fff5a2a-3923-476a-bf91-769470fdcad3
DTSTART:20260131T153000Z
DTEND:20260131T160000Z
LOCATION:Gymnase du Parc avenue du parc 92260 Fontenay aux Roses
CATEGORIES:Sportif
STATUS:
URL;VALUE=URI:https://www.asf-handball.org/evenements/2026/01/31/11-1-acbb-1-2398434
END:VEVENT
END:VCALENDAR
